BEGIN:VCALENDAR
VERSION:2.0
PRODID:-//Gastrogarden Fest - ECPv6.6.4.2//NONSGML v1.0//EN
CALSCALE:GREGORIAN
METHOD:PUBLISH
X-WR-CALNAME:Gastrogarden Fest
X-ORIGINAL-URL:http://gastrogardenfest.com
X-WR-CALDESC:Eventos para Gastrogarden Fest
REFRESH-INTERVAL;VALUE=DURATION:PT1H
X-Robots-Tag:noindex
X-PUBLISHED-TTL:PT1H
BEGIN:VTIMEZONE
TZID:Europe/Madrid
BEGIN:DAYLIGHT
TZOFFSETFROM:+0100
TZOFFSETTO:+0200
TZNAME:CEST
DTSTART:20250330T010000
END:DAYLIGHT
BEGIN:STANDARD
TZOFFSETFROM:+0200
TZOFFSETTO:+0100
TZNAME:CET
DTSTART:20251026T010000
END:STANDARD
TZID:UTC
BEGIN:STANDARD
TZOFFSETFROM:+0000
TZOFFSETTO:+0000
TZNAME:UTC
DTSTART:20250101T000000
END:STANDARD
END:VTIMEZONE
BEGIN:VEVENT
DTSTART;TZID=Europe/Madrid:20250316T140000
DTEND;TZID=Europe/Madrid:20250316T150000
DTSTAMP:20260421T115414
CREATED:20250227T103128Z
LAST-MODIFIED:20250311T131907Z
UID:1929-1742133600-1742137200@gastrogardenfest.com
SUMMARY:Taller de Arroces
DESCRIPTION:En este Taller aprenderás todo los detalles de uno de los ingredientes más versátiles de la gastronomía elaborando dos recetas\, un Arroz seco de choco y trigueros\, y un Risotto andaluz de queso payoyo y chicharrones\, ¡para después comértelos\, claro!
URL:http://gastrogardenfest.com/event/taller-de-arroces/
CATEGORIES:Domingo 16,Talleres
ATTACH;FMTTYPE=image/jpeg:http://gastrogardenfest.com/wp-content/uploads/2025/02/WhatsApp-Image-2025-03-11-at-13.39.18-e1741699111948.jpeg
END:VEVENT
BEGIN:VEVENT
DTSTART;TZID=Europe/Madrid:20250316T133000
DTEND;TZID=Europe/Madrid:20250316T143000
DTSTAMP:20260421T115414
CREATED:20250311T113907Z
LAST-MODIFIED:20250311T113907Z
UID:1963-1742131800-1742135400@gastrogardenfest.com
SUMMARY:Showcooking de Pedro Giménez
DESCRIPTION:Pedro Giménez\, alma y corazón del restaurante Tribeca\, se pondrá el mandil en Gastrogarden para deleitarnos con una demostración de cómo elabora uno de los deliciosos aperitivos que conforman la oferta de su restaurante (¡y que los asistentes podrán degustar!).
URL:http://gastrogardenfest.com/event/showcooking-de-pedro-gimenez/
CATEGORIES:Domingo 16,Showcookings
ATTACH;FMTTYPE=image/png:http://gastrogardenfest.com/wp-content/uploads/2025/03/Storie_Template_Talleres_GG25-NUEVA-FECHA-SHOWCOOKING-PEDRO-GIMENEZ-e1741693138678.png
END:VEVENT
BEGIN:VEVENT
DTSTART;TZID=Europe/Madrid:20250316T133000
DTEND;TZID=Europe/Madrid:20250316T143000
DTSTAMP:20260421T115414
CREATED:20250227T102458Z
LAST-MODIFIED:20250312T094728Z
UID:1921-1742131800-1742135400@gastrogardenfest.com
SUMMARY:Cata de Vermús Andaluces
DESCRIPTION:Podrás probar 3 vermús con sello andaluz\, cada uno de ellos maridado con un pintxo.
URL:http://gastrogardenfest.com/event/cata-de-vermus-andaluces/
CATEGORIES:Catas,Domingo 16
ATTACH;FMTTYPE=image/jpeg:http://gastrogardenfest.com/wp-content/uploads/2025/02/WhatsApp-Image-2025-03-11-at-19.24.49-e1741772819544.jpeg
END:VEVENT
BEGIN:VEVENT
DTSTART;TZID=Europe/Madrid:20250316T120000
DTEND;TZID=Europe/Madrid:20250316T133000
DTSTAMP:20260421T115414
CREATED:20250219T105457Z
LAST-MODIFIED:20250311T131532Z
UID:1825-1742126400-1742131800@gastrogardenfest.com
SUMMARY:Taller de Decoración de Mesa Primaveral
DESCRIPTION:Ángeles Bauzano\, de The Flowers Workshop\, participará en Gastrogarden con un precioso taller en el que aprenderás todos los trucos necesarios para saber montar una mesa de primavera única con bulbos y productos de temporada. Te dará tips para escoger el mantel\, los recipientes\, las frutas\, los portavelas\, las cestas\, los complementos y\, por supuesto\, ¡las flores!
URL:http://gastrogardenfest.com/event/taller-de-decoracion-de-mesa-de-primavera/
CATEGORIES:Domingo 16,Talleres
ATTACH;FMTTYPE=image/jpeg:http://gastrogardenfest.com/wp-content/uploads/2025/02/WhatsApp-Image-2025-03-11-at-13.39.16-1-e1741698913364.jpeg
END:VEVENT
BEGIN:VEVENT
DTSTART;TZID=Europe/Madrid:20250316T120000
DTEND;TZID=Europe/Madrid:20250316T130000
DTSTAMP:20260421T115414
CREATED:20250311T143719Z
LAST-MODIFIED:20250311T150922Z
UID:1998-1742126400-1742130000@gastrogardenfest.com
SUMMARY:Cata a Ciegas de Gastromiun
DESCRIPTION:La sumiller Pilar Pérez Vaca (Mejor sumiller de Sevilla por la Asociación de Sommeliers de Sevilla en 2016\, 2018 y 2019) ofrecerá una cata dirigida de 5 vinos diferentes de una manera muy particular: sin desvelar\, a priori\, de qué vinos se trata.
URL:http://gastrogardenfest.com/event/cata-a-ciegas-de-gastromium/
CATEGORIES:Catas,Domingo 16
ATTACH;FMTTYPE=image/jpeg:http://gastrogardenfest.com/wp-content/uploads/2025/03/482661347_17883528717236745_7881402442582183551_n-e1741705728904.jpg
END:VEVENT
BEGIN:VEVENT
DTSTART;TZID=Europe/Madrid:20250316T120000
DTEND;TZID=Europe/Madrid:20250316T130000
DTSTAMP:20260421T115414
CREATED:20250311T122615Z
LAST-MODIFIED:20250311T122615Z
UID:1961-1742126400-1742130000@gastrogardenfest.com
SUMMARY:Showcooking de IGP Aceituna Mesa
DESCRIPTION:Sumérgete en el mundo de la aceituna de mesa con una experiencia única donde conocerás: El viaje del olivo a tu mesa\, el arte del aderezo al estilo sevillano\, las variedades de aceituna de mesa y cómo catar aceitunas.
URL:http://gastrogardenfest.com/event/showcooking-de-igp-aceituna-mesa/
CATEGORIES:Domingo 16,Showcookings
ATTACH;FMTTYPE=image/jpeg:http://gastrogardenfest.com/wp-content/uploads/2025/03/WhatsApp-Image-2025-03-11-at-13.22.51-e1741695950880.jpeg
END:VEVENT
BEGIN:VEVENT
DTSTART;TZID=Europe/Madrid:20250315T190000
DTEND;TZID=Europe/Madrid:20250315T200000
DTSTAMP:20260421T115414
CREATED:20250227T102812Z
LAST-MODIFIED:20250311T102856Z
UID:1925-1742065200-1742068800@gastrogardenfest.com
SUMMARY:Showcooking Jesús León
DESCRIPTION:Jesús León (Sr. Cangrejo) dará una clase magistral sobre cómo limpiar y aprovechar al máximo un pescado al cocinarlo en casa. Anímate y apúntate al showcooking que ofrecerá este maravilloso chef con una trayectoria profesional que le ha llevado a pasar por las cocinas de restaurantes de la talla del Cenador de Amós\, Trivio\, Aponiente o Código de Barras.
URL:http://gastrogardenfest.com/event/showcooking-jesus-leon/
CATEGORIES:Sábado 15,Showcookings
ATTACH;FMTTYPE=image/png:http://gastrogardenfest.com/wp-content/uploads/2025/02/4.5_Template_Talleres_GG25-SHOWCOOKING-JESUS-LEON-e1741688928967.png
END:VEVENT
BEGIN:VEVENT
DTSTART;TZID=Europe/Madrid:20250315T173000
DTEND;TZID=Europe/Madrid:20250315T183000
DTSTAMP:20260421T115414
CREATED:20250311T111058Z
LAST-MODIFIED:20250311T144351Z
UID:1958-1742059800-1742063400@gastrogardenfest.com
SUMMARY:Showcooking con Kinu
DESCRIPTION:Maher Al Dali\, maestro itamae del restauarante Kinu\, la única barra omakase de Sevilla\, nos acompañará en el espacio dedicado a showcookings de Gastrogarden para mostrarnos cómo elaborar los más deliciosos niguiris de atún. La demostración\, con cata de niguiri incluida.
URL:http://gastrogardenfest.com/event/showcooking-con-kinu/
CATEGORIES:Sábado 15,Showcookings
ATTACH;FMTTYPE=image/png:http://gastrogardenfest.com/wp-content/uploads/2025/03/4.5_Template_Talleres_GG25-NUEVA-FECHA-SHOWCOOKING-CON-KINU-1-e1741691496788.png
END:VEVENT
BEGIN:VEVENT
DTSTART;TZID=Europe/Madrid:20250315T140000
DTEND;TZID=Europe/Madrid:20250315T180000
DTSTAMP:20260421T115414
CREATED:20250311T133625Z
LAST-MODIFIED:20250311T144544Z
UID:1988-1742047200-1742061600@gastrogardenfest.com
SUMMARY:Taller de Sushi y Maki
DESCRIPTION:Una actividad en la que prepararás\, bajo sus indicaciones\, los más deliciosos sushis y makis que jamás hayas probado: dos recetas japonesas con las que podrás sorprender a todos en tu próxima cenita en casa.
URL:http://gastrogardenfest.com/event/taller-de-sushi-y-maki/
CATEGORIES:Sábado 15,Talleres
ATTACH;FMTTYPE=image/jpeg:http://gastrogardenfest.com/wp-content/uploads/2025/03/WhatsApp-Image-2025-03-11-at-13.37.57-e1741700145446.jpeg
END:VEVENT
BEGIN:VEVENT
DTSTART;TZID=Europe/Madrid:20250315T123000
DTEND;TZID=Europe/Madrid:20250315T133000
DTSTAMP:20260421T115414
CREATED:20250311T132409Z
LAST-MODIFIED:20250311T144717Z
UID:1983-1742041800-1742045400@gastrogardenfest.com
SUMMARY:Taller de Gyozas Padres e Hijos
DESCRIPTION:Te proponemos disfrutar de una actividad gastronómica familiar (padres-madres/hij@s\, niet@s/abuel@s\, tí@s/sobrin@s) con un taller impartido por Cuks en el que prepararás y cocinarás tus propias gyozas japonesas para después\, por supuesto\, comértelas.
URL:http://gastrogardenfest.com/event/taller-de-gyozas-padres-e-hijos/
CATEGORIES:Sábado 15,Talleres
ATTACH;FMTTYPE=image/jpeg:http://gastrogardenfest.com/wp-content/uploads/2025/03/WhatsApp-Image-2025-03-11-at-13.39.18-e1741699437507.jpeg
END:VEVENT
BEGIN:VEVENT
DTSTART;TZID=Europe/Madrid:20250315T120000
DTEND;TZID=Europe/Madrid:20250315T130000
DTSTAMP:20260421T115414
CREATED:20250311T122836Z
LAST-MODIFIED:20250311T122836Z
UID:1956-1742040000-1742043600@gastrogardenfest.com
SUMMARY:Showcooking Mujeres y Vino
DESCRIPTION:Las sumilleres Fátima Villanueva (Sr. Cangrejo)\, Ana Hergueta (Palo Cortao) y Carolina Jurado (12 Tapas) se encargarán de hablarnos de la mujer en el mundo del vino en el espacio destinado a masterclasses de Gastrogarden. ¡Y esto no es todo! Además\, cada una de ellas nos presentará un vino\, también elaborado por mujeres\, que los asistentes a la charla tendrán la suerte de catar de su mano.
URL:http://gastrogardenfest.com/event/showcooking-mujeres-y-vino/
CATEGORIES:Sábado 15,Showcookings
ATTACH;FMTTYPE=image/jpeg:http://gastrogardenfest.com/wp-content/uploads/2025/03/WhatsApp-Image-2025-03-11-at-12.49.05-e1741696107198.jpeg
END:VEVENT
BEGIN:VEVENT
DTSTART;TZID=Europe/Madrid:20250315T120000
DTEND;TZID=Europe/Madrid:20250315T130000
DTSTAMP:20260421T115414
CREATED:20250220T104102Z
LAST-MODIFIED:20250311T142304Z
UID:1849-1742040000-1742043600@gastrogardenfest.com
SUMMARY:Cata de Quesos de Casa Orzáez
DESCRIPTION:En la cata probarás cuatro tipos de quesos junto con dos vinos naturales andaluces\, también muy vivos\, además de conversar sobre el proyecto y la magia de este tipo de elaboraciones.
URL:http://gastrogardenfest.com/event/cata-de-quesos-de-casa-orzaez/
CATEGORIES:Catas,Sábado 15
ATTACH;FMTTYPE=image/jpeg:http://gastrogardenfest.com/wp-content/uploads/2025/02/WhatsApp-Image-2025-03-11-at-13.39.18-1-e1741702921851.jpeg
END:VEVENT
BEGIN:VEVENT
DTSTART;TZID=Europe/Madrid:20250314T200000
DTEND;TZID=Europe/Madrid:20250314T210000
DTSTAMP:20260421T115414
CREATED:20250311T104239Z
LAST-MODIFIED:20250311T104632Z
UID:1951-1741982400-1741986000@gastrogardenfest.com
SUMMARY:Showcooking de Bosco
DESCRIPTION:El chef y presentador de televisión ofrecerá para nuestro deleite\, y de la mano de Gastromiun\, un showcooking en el que nos mostrará la elaboración de uno de los platos más icónicos de su cocina: una versión del pescado azul con escabeche de calabaza\, aceite de hierbabuena y avellanas\, ¡y habrá una pequeña degustación!
URL:http://gastrogardenfest.com/event/showcooking-de-bosco/
CATEGORIES:Showcookings,Viernes 14
ATTACH;FMTTYPE=image/png:http://gastrogardenfest.com/wp-content/uploads/2025/03/Storie_Template_Talleres_GG25-SHOWCOOKING-BOSCO-e1741689966698.png
END:VEVENT
BEGIN:VEVENT
DTSTART;TZID=UTC:20250314T183000
DTEND;TZID=UTC:20250314T193000
DTSTAMP:20260421T115414
CREATED:20160616T124114Z
LAST-MODIFIED:20250311T130755Z
UID:305-1741977000-1741980600@gastrogardenfest.com
SUMMARY:Taller de Fotografía Gastronómica
DESCRIPTION:Nuestro maravilloso fotógrafo especializado en gastronomía\, que ha colaborado con innumerables restaurantes de Sevilla y más allá\, compartirá sus trucos\, claves y algunas técnicas para que aprendas a sacar el mayor provecho de tus instantáneas culinarias.
URL:http://gastrogardenfest.com/event/taller-foto/
CATEGORIES:Talleres,Viernes 14
ATTACH;FMTTYPE=image/jpeg:http://gastrogardenfest.com/wp-content/uploads/2016/06/WhatsApp-Image-2025-03-11-at-13.39.16-e1741698389357.jpeg
END:VEVENT
BEGIN:VEVENT
DTSTART;TZID=Europe/Madrid:20250314T173000
DTEND;TZID=Europe/Madrid:20250314T183000
DTSTAMP:20260421T115414
CREATED:20250221T094659Z
LAST-MODIFIED:20250312T095127Z
UID:1857-1741973400-1741977000@gastrogardenfest.com
SUMMARY:Cata de Cafés con Ineffable
DESCRIPTION:Los chicos de Ineffable Coffee Roasters serán los anfitriones de esta maravillosa experiencia: una cata guiada que te permitirá probar una excelente selección de entre 8 y 10 cafés. Una aventura sensorial con la que afinarás tus sentidos\, descubrirás todo un universo de aromas y sabores\, y conocerás los detalles del origen y tueste de sus granos. ¿Lo mejor? ¡La degustación incluye una bolsa de café de especialidad que te llevarás a casa!
URL:http://gastrogardenfest.com/event/cata-de-cafes-con-ineffable/
CATEGORIES:Catas,Viernes 14
ATTACH;FMTTYPE=image/jpeg:http://gastrogardenfest.com/wp-content/uploads/2025/02/WhatsApp-Image-2025-03-11-at-13.39.16-e1741773074707.jpeg
END:VEVENT
BEGIN:VEVENT
DTSTART;TZID=Europe/Madrid:20250314T170000
DTEND;TZID=Europe/Madrid:20250314T180000
DTSTAMP:20260421T115414
CREATED:20250303T090402Z
LAST-MODIFIED:20250311T141421Z
UID:1932-1741971600-1741975200@gastrogardenfest.com
SUMMARY:Taller de Cocina con Ácidos
DESCRIPTION:Cocinar es transformar alimentos para conseguir texturas y sabores diferentes. Utilizaremos el elemento ácido que existe en diferentes ingredientes para hacerlo\, y se elaborarán tres recetas que podrás llevarte a casa: · Tu propio Encurtido · Carpaccio de Calabacín macerado · Menos ceviche más escabeche
URL:http://gastrogardenfest.com/event/taller-de-cocina-con-acidos/
CATEGORIES:Talleres,Viernes 14
ATTACH;FMTTYPE=image/jpeg:http://gastrogardenfest.com/wp-content/uploads/2025/03/WhatsApp-Image-2025-03-11-at-13.58.31-e1741698005568.jpeg
END:VEVENT
BEGIN:VEVENT
DTSTART;TZID=Europe/Madrid:20250314T170000
DTEND;TZID=Europe/Madrid:20250314T180000
DTSTAMP:20260421T115414
CREATED:20250224T103822Z
LAST-MODIFIED:20250311T102650Z
UID:1893-1741971600-1741975200@gastrogardenfest.com
SUMMARY:Showcooking de Manu Jara
DESCRIPTION:Manu Jara\, maestro pastelero de origen francés asentado en la ciudad desde hace 25 años vendrá a hablarnos de uno de los temas que más le apasionan: ¡el cacao! Este año se cumplen 5 siglos de la llegada de este delicioso fruto a nuestro país a través del puerto de Sevilla\, así que\, cómo no\, queremos rendirle su merecido homenaje. \n¿Y de qué manera? Con una demostración del maestro\, que se colocará el delantal para enseñarnos cómo elabora unas deliciosas almendras fritas —¿acaso hay algo más sevillano?— pero\, ojo\, ¡de chocolate!
URL:http://gastrogardenfest.com/event/showcooking-de-manu-jara/
CATEGORIES:Showcookings,Viernes 14
ATTACH;FMTTYPE=image/png:http://gastrogardenfest.com/wp-content/uploads/2025/02/4.5_Template_Talleres_GG25-SHOWCOOKING-MANU-JARA-NUEVA-FECHA-1-e1741688796813.png
END:VEVENT
BEGIN:VEVENT
DTSTART;VALUE=DATE:20250314
DTEND;VALUE=DATE:20250316
DTSTAMP:20260421T115414
CREATED:20250224T121025Z
LAST-MODIFIED:20250311T141538Z
UID:1909-1741910400-1742083199@gastrogardenfest.com
SUMMARY:Catas de Vinos Musicalizadas
DESCRIPTION:Con el apoyo y el asesoramiento de los chicos de Martina Trader\, expertos como pocos en la materia\, hemos organizado no una\, ni dos\, ¡ni siquiera tres! Sino SEIS CATAS de vino dirigidas por diferentes bodegas de renombre y maridadas con la mejor música clásica tocada a piano… ¡en directo! Sí\, sí: 6 CATAS x 6 COMPOSITORES. Hoy te presentamos las tres primeras bodegas confirmadas\, ¡por si quieres ir organizando tu fin de semana en Gastrogarden! Te contamos todos los detalles sobre cada una de ellas en ultimaentrada.com \nEcha un vistazo a la lista\, elige la que más te guste —o LAS que más\, ¿quién dijo miedo?—\, y hazte con tu plaza. Eso sí\, no lo pienses mucho porque intuimos que van a volar…
URL:http://gastrogardenfest.com/event/catas-de-vinos-musicalizadas/
CATEGORIES:Catas,Sábado 15,Viernes 14
ATTACH;FMTTYPE=image/jpeg:http://gastrogardenfest.com/wp-content/uploads/2025/02/WhatsApp-Image-2025-03-11-at-13.44.55-e1741697352975.jpeg
END:VEVENT
END:VCALENDAR