BEGIN:VCALENDAR
VERSION:2.0
PRODID:-//Gastrogarden Fest - ECPv6.6.4.2//NONSGML v1.0//EN
CALSCALE:GREGORIAN
METHOD:PUBLISH
X-ORIGINAL-URL:http://gastrogardenfest.com
X-WR-CALDESC:Eventos para Gastrogarden Fest
REFRESH-INTERVAL;VALUE=DURATION:PT1H
X-Robots-Tag:noindex
X-PUBLISHED-TTL:PT1H
BEGIN:VTIMEZONE
TZID:Europe/Madrid
BEGIN:DAYLIGHT
TZOFFSETFROM:+0100
TZOFFSETTO:+0200
TZNAME:CEST
DTSTART:20250330T010000
END:DAYLIGHT
BEGIN:STANDARD
TZOFFSETFROM:+0200
TZOFFSETTO:+0100
TZNAME:CET
DTSTART:20251026T010000
END:STANDARD
TZID:UTC
BEGIN:STANDARD
TZOFFSETFROM:+0000
TZOFFSETTO:+0000
TZNAME:UTC
DTSTART:20250101T000000
END:STANDARD
END:VTIMEZONE
BEGIN:VEVENT
DTSTART;TZID=Europe/Madrid:20250314T200000
DTEND;TZID=Europe/Madrid:20250314T210000
DTSTAMP:20260421T132719
CREATED:20250311T104239Z
LAST-MODIFIED:20250311T104632Z
UID:1951-1741982400-1741986000@gastrogardenfest.com
SUMMARY:Showcooking de Bosco
DESCRIPTION:El chef y presentador de televisión ofrecerá para nuestro deleite\, y de la mano de Gastromiun\, un showcooking en el que nos mostrará la elaboración de uno de los platos más icónicos de su cocina: una versión del pescado azul con escabeche de calabaza\, aceite de hierbabuena y avellanas\, ¡y habrá una pequeña degustación!
URL:http://gastrogardenfest.com/event/showcooking-de-bosco/
CATEGORIES:Showcookings,Viernes 14
ATTACH;FMTTYPE=image/png:http://gastrogardenfest.com/wp-content/uploads/2025/03/Storie_Template_Talleres_GG25-SHOWCOOKING-BOSCO-e1741689966698.png
END:VEVENT
BEGIN:VEVENT
DTSTART;TZID=UTC:20250314T183000
DTEND;TZID=UTC:20250314T193000
DTSTAMP:20260421T132719
CREATED:20160616T124114Z
LAST-MODIFIED:20250311T130755Z
UID:305-1741977000-1741980600@gastrogardenfest.com
SUMMARY:Taller de Fotografía Gastronómica
DESCRIPTION:Nuestro maravilloso fotógrafo especializado en gastronomía\, que ha colaborado con innumerables restaurantes de Sevilla y más allá\, compartirá sus trucos\, claves y algunas técnicas para que aprendas a sacar el mayor provecho de tus instantáneas culinarias.
URL:http://gastrogardenfest.com/event/taller-foto/
CATEGORIES:Talleres,Viernes 14
ATTACH;FMTTYPE=image/jpeg:http://gastrogardenfest.com/wp-content/uploads/2016/06/WhatsApp-Image-2025-03-11-at-13.39.16-e1741698389357.jpeg
END:VEVENT
BEGIN:VEVENT
DTSTART;TZID=Europe/Madrid:20250314T173000
DTEND;TZID=Europe/Madrid:20250314T183000
DTSTAMP:20260421T132719
CREATED:20250221T094659Z
LAST-MODIFIED:20250312T095127Z
UID:1857-1741973400-1741977000@gastrogardenfest.com
SUMMARY:Cata de Cafés con Ineffable
DESCRIPTION:Los chicos de Ineffable Coffee Roasters serán los anfitriones de esta maravillosa experiencia: una cata guiada que te permitirá probar una excelente selección de entre 8 y 10 cafés. Una aventura sensorial con la que afinarás tus sentidos\, descubrirás todo un universo de aromas y sabores\, y conocerás los detalles del origen y tueste de sus granos. ¿Lo mejor? ¡La degustación incluye una bolsa de café de especialidad que te llevarás a casa!
URL:http://gastrogardenfest.com/event/cata-de-cafes-con-ineffable/
CATEGORIES:Catas,Viernes 14
ATTACH;FMTTYPE=image/jpeg:http://gastrogardenfest.com/wp-content/uploads/2025/02/WhatsApp-Image-2025-03-11-at-13.39.16-e1741773074707.jpeg
END:VEVENT
BEGIN:VEVENT
DTSTART;TZID=Europe/Madrid:20250314T170000
DTEND;TZID=Europe/Madrid:20250314T180000
DTSTAMP:20260421T132719
CREATED:20250303T090402Z
LAST-MODIFIED:20250311T141421Z
UID:1932-1741971600-1741975200@gastrogardenfest.com
SUMMARY:Taller de Cocina con Ácidos
DESCRIPTION:Cocinar es transformar alimentos para conseguir texturas y sabores diferentes. Utilizaremos el elemento ácido que existe en diferentes ingredientes para hacerlo\, y se elaborarán tres recetas que podrás llevarte a casa: · Tu propio Encurtido · Carpaccio de Calabacín macerado · Menos ceviche más escabeche
URL:http://gastrogardenfest.com/event/taller-de-cocina-con-acidos/
CATEGORIES:Talleres,Viernes 14
ATTACH;FMTTYPE=image/jpeg:http://gastrogardenfest.com/wp-content/uploads/2025/03/WhatsApp-Image-2025-03-11-at-13.58.31-e1741698005568.jpeg
END:VEVENT
BEGIN:VEVENT
DTSTART;TZID=Europe/Madrid:20250314T170000
DTEND;TZID=Europe/Madrid:20250314T180000
DTSTAMP:20260421T132719
CREATED:20250224T103822Z
LAST-MODIFIED:20250311T102650Z
UID:1893-1741971600-1741975200@gastrogardenfest.com
SUMMARY:Showcooking de Manu Jara
DESCRIPTION:Manu Jara\, maestro pastelero de origen francés asentado en la ciudad desde hace 25 años vendrá a hablarnos de uno de los temas que más le apasionan: ¡el cacao! Este año se cumplen 5 siglos de la llegada de este delicioso fruto a nuestro país a través del puerto de Sevilla\, así que\, cómo no\, queremos rendirle su merecido homenaje. \n¿Y de qué manera? Con una demostración del maestro\, que se colocará el delantal para enseñarnos cómo elabora unas deliciosas almendras fritas —¿acaso hay algo más sevillano?— pero\, ojo\, ¡de chocolate!
URL:http://gastrogardenfest.com/event/showcooking-de-manu-jara/
CATEGORIES:Showcookings,Viernes 14
ATTACH;FMTTYPE=image/png:http://gastrogardenfest.com/wp-content/uploads/2025/02/4.5_Template_Talleres_GG25-SHOWCOOKING-MANU-JARA-NUEVA-FECHA-1-e1741688796813.png
END:VEVENT
BEGIN:VEVENT
DTSTART;VALUE=DATE:20250314
DTEND;VALUE=DATE:20250316
DTSTAMP:20260421T132719
CREATED:20250224T121025Z
LAST-MODIFIED:20250311T141538Z
UID:1909-1741910400-1742083199@gastrogardenfest.com
SUMMARY:Catas de Vinos Musicalizadas
DESCRIPTION:Con el apoyo y el asesoramiento de los chicos de Martina Trader\, expertos como pocos en la materia\, hemos organizado no una\, ni dos\, ¡ni siquiera tres! Sino SEIS CATAS de vino dirigidas por diferentes bodegas de renombre y maridadas con la mejor música clásica tocada a piano… ¡en directo! Sí\, sí: 6 CATAS x 6 COMPOSITORES. Hoy te presentamos las tres primeras bodegas confirmadas\, ¡por si quieres ir organizando tu fin de semana en Gastrogarden! Te contamos todos los detalles sobre cada una de ellas en ultimaentrada.com \nEcha un vistazo a la lista\, elige la que más te guste —o LAS que más\, ¿quién dijo miedo?—\, y hazte con tu plaza. Eso sí\, no lo pienses mucho porque intuimos que van a volar…
URL:http://gastrogardenfest.com/event/catas-de-vinos-musicalizadas/
CATEGORIES:Catas,Sábado 15,Viernes 14
ATTACH;FMTTYPE=image/jpeg:http://gastrogardenfest.com/wp-content/uploads/2025/02/WhatsApp-Image-2025-03-11-at-13.44.55-e1741697352975.jpeg
END:VEVENT
END:VCALENDAR